BEGIN:VCALENDAR
VERSION:2.0
PRODID:-//Donatella Moltisanti - ECPv6.15.20//NONSGML v1.0//EN
CALSCALE:GREGORIAN
METHOD:PUBLISH
X-WR-CALNAME:Donatella Moltisanti
X-ORIGINAL-URL:https://donatellamoltisanti.com
X-WR-CALDESC:Events for Donatella Moltisanti
REFRESH-INTERVAL;VALUE=DURATION:PT1H
X-Robots-Tag:noindex
X-PUBLISHED-TTL:PT1H
BEGIN:VTIMEZONE
TZID:UTC
BEGIN:STANDARD
TZOFFSETFROM:+0000
TZOFFSETTO:+0000
TZNAME:UTC
DTSTART:20180101T000000
END:STANDARD
END:VTIMEZONE
BEGIN:VTIMEZONE
TZID:America/New_York
BEGIN:DAYLIGHT
TZOFFSETFROM:-0500
TZOFFSETTO:-0400
TZNAME:EDT
DTSTART:20180311T070000
END:DAYLIGHT
BEGIN:STANDARD
TZOFFSETFROM:-0400
TZOFFSETTO:-0500
TZNAME:EST
DTSTART:20181104T060000
END:STANDARD
BEGIN:DAYLIGHT
TZOFFSETFROM:-0500
TZOFFSETTO:-0400
TZNAME:EDT
DTSTART:20190310T070000
END:DAYLIGHT
BEGIN:STANDARD
TZOFFSETFROM:-0400
TZOFFSETTO:-0500
TZNAME:EST
DTSTART:20191103T060000
END:STANDARD
BEGIN:DAYLIGHT
TZOFFSETFROM:-0500
TZOFFSETTO:-0400
TZNAME:EDT
DTSTART:20200308T070000
END:DAYLIGHT
BEGIN:STANDARD
TZOFFSETFROM:-0400
TZOFFSETTO:-0500
TZNAME:EST
DTSTART:20201101T060000
END:STANDARD
END:VTIMEZONE
BEGIN:VEVENT
DTSTART;TZID=UTC:20191028T190000
DTEND;TZID=UTC:20191028T201500
DTSTAMP:20260424T231606
CREATED:20190112T024950Z
LAST-MODIFIED:20190112T024950Z
UID:2730-1572289200-1572293700@donatellamoltisanti.com
SUMMARY:New Moon in Scorpio Meditation
DESCRIPTION:
URL:https://donatellamoltisanti.com/event/new-moon-in-scorpio-meditation/
ATTACH;FMTTYPE=image/jpeg:https://donatellamoltisanti.com/wp-content/uploads/2017/10/Nature_14-1920.jpg
END:VEVENT
BEGIN:VEVENT
DTSTART;TZID=UTC:20190928T190000
DTEND;TZID=UTC:20190928T201500
DTSTAMP:20260424T231606
CREATED:20190112T024814Z
LAST-MODIFIED:20190112T024814Z
UID:2726-1569697200-1569701700@donatellamoltisanti.com
SUMMARY:New Moon in Libra Meditation
DESCRIPTION:
URL:https://donatellamoltisanti.com/event/new-moon-in-libra-meditation/
ATTACH;FMTTYPE=image/jpeg:https://donatellamoltisanti.com/wp-content/uploads/2017/12/1-1920.jpg
END:VEVENT
BEGIN:VEVENT
DTSTART;VALUE=DATE:20190901
DTEND;VALUE=DATE:20190907
DTSTAMP:20260424T231606
CREATED:20190112T024721Z
LAST-MODIFIED:20190315T220319Z
UID:2724-1567296000-1567814399@donatellamoltisanti.com
SUMMARY:Living Light Sicily Group Retreat
DESCRIPTION:Living Light; A Journey Back to the Lightness of the Heart
URL:https://donatellamoltisanti.com/event/inner-bridges-sicily-group-retreat/
ATTACH;FMTTYPE=image/jpeg:https://donatellamoltisanti.com/wp-content/uploads/2017/10/43-1920.jpg
END:VEVENT
BEGIN:VEVENT
DTSTART;TZID=UTC:20190830T190000
DTEND;TZID=UTC:20190830T201500
DTSTAMP:20260424T231606
CREATED:20190112T024553Z
LAST-MODIFIED:20190112T024553Z
UID:2720-1567191600-1567196100@donatellamoltisanti.com
SUMMARY:New Moon in Virgo Meditation
DESCRIPTION:
URL:https://donatellamoltisanti.com/event/new-moon-in-virgo-meditation/
ATTACH;FMTTYPE=image/jpeg:https://donatellamoltisanti.com/wp-content/uploads/2017/12/1-1920.jpg
END:VEVENT
BEGIN:VEVENT
DTSTART;TZID=UTC:20190820T163000
DTEND;TZID=UTC:20190820T183000
DTSTAMP:20260424T231606
CREATED:20190112T024638Z
LAST-MODIFIED:20190112T024638Z
UID:2722-1566318600-1566325800@donatellamoltisanti.com
SUMMARY:Study Group “Inner Bridges”
DESCRIPTION:
URL:https://donatellamoltisanti.com/event/study-group-inner-bridges-8/
ATTACH;FMTTYPE=image/jpeg:https://donatellamoltisanti.com/wp-content/uploads/2017/11/Community_17-1920.jpg
END:VEVENT
BEGIN:VEVENT
DTSTART;TZID=UTC:20190801T190000
DTEND;TZID=UTC:20190801T201500
DTSTAMP:20260424T231606
CREATED:20190112T024505Z
LAST-MODIFIED:20190112T024505Z
UID:2718-1564686000-1564690500@donatellamoltisanti.com
SUMMARY:New Moon in Leo Meditation
DESCRIPTION:
URL:https://donatellamoltisanti.com/event/new-moon-in-leo-meditation/
ATTACH;FMTTYPE=image/jpeg:https://donatellamoltisanti.com/wp-content/uploads/2017/12/1-1920.jpg
END:VEVENT
BEGIN:VEVENT
DTSTART;TZID=UTC:20190716T163000
DTEND;TZID=UTC:20190716T183000
DTSTAMP:20260424T231606
CREATED:20190112T024422Z
LAST-MODIFIED:20190112T024422Z
UID:2716-1563294600-1563301800@donatellamoltisanti.com
SUMMARY:Study Group “Inner Bridges”
DESCRIPTION:
URL:https://donatellamoltisanti.com/event/study-group-inner-bridges-7/
ATTACH;FMTTYPE=image/jpeg:https://donatellamoltisanti.com/wp-content/uploads/2017/11/Community_17-1920.jpg
END:VEVENT
BEGIN:VEVENT
DTSTART;TZID=UTC:20190702T190000
DTEND;TZID=UTC:20190702T201500
DTSTAMP:20260424T231606
CREATED:20190112T024335Z
LAST-MODIFIED:20190619T142107Z
UID:2714-1562094000-1562098500@donatellamoltisanti.com
SUMMARY:New Moon in Cancer Meditation
DESCRIPTION:
URL:https://donatellamoltisanti.com/event/new-moon-in-cancer-meditation/
ATTACH;FMTTYPE=image/jpeg:https://donatellamoltisanti.com/wp-content/uploads/2017/12/1-1920.jpg
END:VEVENT
BEGIN:VEVENT
DTSTART;VALUE=DATE:20190623
DTEND;VALUE=DATE:20190629
DTSTAMP:20260424T231606
CREATED:20190112T024253Z
LAST-MODIFIED:20190114T231520Z
UID:2712-1561248000-1561766399@donatellamoltisanti.com
SUMMARY:"The Goddess Path" Sicily Group Retreat
DESCRIPTION:
URL:https://donatellamoltisanti.com/event/the-goddess-path-sicily-group-retreat/
ATTACH;FMTTYPE=image/jpeg:https://donatellamoltisanti.com/wp-content/uploads/2017/10/16-1920.jpg
END:VEVENT
BEGIN:VEVENT
DTSTART;TZID=UTC:20190612T090000
DTEND;TZID=UTC:20190612T103000
DTSTAMP:20260424T231606
CREATED:20190112T024123Z
LAST-MODIFIED:20190112T024123Z
UID:2708-1560330000-1560335400@donatellamoltisanti.com
SUMMARY:Transformational Parenting
DESCRIPTION:
URL:https://donatellamoltisanti.com/event/transformational-parenting-11/
ATTACH;FMTTYPE=image/jpeg:https://donatellamoltisanti.com/wp-content/uploads/2017/07/Donatella_1-1920.jpg
END:VEVENT
BEGIN:VEVENT
DTSTART;TZID=UTC:20190611T163000
DTEND;TZID=UTC:20190611T183000
DTSTAMP:20260424T231606
CREATED:20190112T024207Z
LAST-MODIFIED:20190112T024207Z
UID:2710-1560270600-1560277800@donatellamoltisanti.com
SUMMARY:Study Group “Inner Bridges”
DESCRIPTION:
URL:https://donatellamoltisanti.com/event/study-group-inner-bridges-6/
ATTACH;FMTTYPE=image/jpeg:https://donatellamoltisanti.com/wp-content/uploads/2017/11/Community_17-1920.jpg
END:VEVENT
BEGIN:VEVENT
DTSTART;TZID=UTC:20190603T190000
DTEND;TZID=UTC:20190603T201500
DTSTAMP:20260424T231606
CREATED:20190111T202552Z
LAST-MODIFIED:20190111T202552Z
UID:2705-1559588400-1559592900@donatellamoltisanti.com
SUMMARY:New Moon in Gemini Meditation
DESCRIPTION:
URL:https://donatellamoltisanti.com/event/new-moon-in-gemini-meditation/
ATTACH;FMTTYPE=image/jpeg:https://donatellamoltisanti.com/wp-content/uploads/2017/12/1-1920.jpg
END:VEVENT
BEGIN:VEVENT
DTSTART;TZID=UTC:20190529T090000
DTEND;TZID=UTC:20190529T103000
DTSTAMP:20260424T231606
CREATED:20190111T202130Z
LAST-MODIFIED:20190111T202130Z
UID:2697-1559120400-1559125800@donatellamoltisanti.com
SUMMARY:Transformational Parenting
DESCRIPTION:
URL:https://donatellamoltisanti.com/event/transformational-parenting-9/
ATTACH;FMTTYPE=image/jpeg:https://donatellamoltisanti.com/wp-content/uploads/2017/07/Donatella_1-1920.jpg
END:VEVENT
BEGIN:VEVENT
DTSTART;TZID=UTC:20190528T163000
DTEND;TZID=UTC:20190528T183000
DTSTAMP:20260424T231606
CREATED:20190111T202437Z
LAST-MODIFIED:20190111T202437Z
UID:2703-1559061000-1559068200@donatellamoltisanti.com
SUMMARY:Study Group “The Goddess Path”
DESCRIPTION:
URL:https://donatellamoltisanti.com/event/study-group-the-goddess-path-5/
ATTACH;FMTTYPE=image/jpeg:https://donatellamoltisanti.com/wp-content/uploads/2017/10/16-1920.jpg
END:VEVENT
BEGIN:VEVENT
DTSTART;VALUE=DATE:20190523
DTEND;VALUE=DATE:20190524
DTSTAMP:20260424T231606
CREATED:20190401T171650Z
LAST-MODIFIED:20190508T180535Z
UID:2951-1558569600-1558655999@donatellamoltisanti.com
SUMMARY:"Your Brain on Music" with Dr. Trupti Gokani
DESCRIPTION:Our brains are neurologically wired to respond deeply and immediately to music\, in ways that activate the parasympathetic nervous system and promote healing\, on the physical and emotional levels. Through brain imaging studies conducted over the past decade\, at leading research institutes worldwide\, scientists can now identify and understand the mechanisms that enable this profound transformation. \nMeanwhile\, whether singing lullabies or sacred chants\, mothers and religious leaders have known for millennia what research is only beginning to uncover: Singing has the extraordinary power to uplift\, transport\, and heal us. This shift in consciousness is why\, after hearing a particular song\, our mood may change abruptly\, or we suddenly may feel transported back in time. Singing bypasses our mental process\, both awakening and soothing us at the core\, without effort. Among other benefits\, we are able to access\, release\, and heal from the experience of trauma\, without having to recount and risk getting triggered by painful memories. \nIn the upcoming event\, “Your Brain on Music\,” neurologist Trupti Gokani MD will introduce the concept of music as medicine\, discussing how music interacts with the brain\, and by extension\, the physical body – activating the body’s internal healing mechanisms. Following this discussion\, sound healer Donatella Moltisanti will guide participants through a profoundly healing journey combining operatic vocalization\, crystal singing bowls\, and guided meditation. Dr. Gokani and Donatella will be available for Q&A following this event.
URL:https://donatellamoltisanti.com/event/your-brain-on-music-with-dr-trupti-gokani/
LOCATION:Evolution Yoga\, Glenview\, IL
END:VEVENT
BEGIN:VEVENT
DTSTART;TZID=UTC:20190521T163000
DTEND;TZID=UTC:20190521T183000
DTSTAMP:20260424T231606
CREATED:20190111T202047Z
LAST-MODIFIED:20190111T202047Z
UID:2695-1558456200-1558463400@donatellamoltisanti.com
SUMMARY:Study Group “Inner Bridges”
DESCRIPTION:
URL:https://donatellamoltisanti.com/event/study-group-inner-bridges-5/
ATTACH;FMTTYPE=image/jpeg:https://donatellamoltisanti.com/wp-content/uploads/2017/11/Community_17-1920.jpg
END:VEVENT
BEGIN:VEVENT
DTSTART;VALUE=DATE:20190517
DTEND;VALUE=DATE:20190521
DTSTAMP:20260424T231606
CREATED:20190214T200731Z
LAST-MODIFIED:20190214T200731Z
UID:2800-1558051200-1558396799@donatellamoltisanti.com
SUMMARY:Summit Tulum
DESCRIPTION:
URL:https://donatellamoltisanti.com/event/summit-tulum/
LOCATION:Summit Tulum\, Tulum\, Mexico
END:VEVENT
BEGIN:VEVENT
DTSTART;TZID=UTC:20190515T090000
DTEND;TZID=UTC:20190515T103000
DTSTAMP:20260424T231606
CREATED:20190111T202334Z
LAST-MODIFIED:20190111T202334Z
UID:2701-1557910800-1557916200@donatellamoltisanti.com
SUMMARY:Transformational Parenting
DESCRIPTION:
URL:https://donatellamoltisanti.com/event/transformational-parenting-10/
ATTACH;FMTTYPE=image/jpeg:https://donatellamoltisanti.com/wp-content/uploads/2017/07/Donatella_1-1920.jpg
END:VEVENT
BEGIN:VEVENT
DTSTART;TZID=UTC:20190514T100000
DTEND;TZID=UTC:20190514T113000
DTSTAMP:20260424T231606
CREATED:20190401T171533Z
LAST-MODIFIED:20190401T171533Z
UID:2948-1557828000-1557833400@donatellamoltisanti.com
SUMMARY:The Medicine of Music
DESCRIPTION:Join Donatella for her “Medicine of Music” Sound Healing Event. Donatella will discuss the science of how music heals the body\, then guide participants through an hour-long sound healing journey – combining operatic vocalization\, crystal singing bowls\, and guided meditation\, followed by a Q&A and CD-signing.
URL:https://donatellamoltisanti.com/event/the-medicine-of-music-8/
LOCATION:Trilogy Sanctuary\, La Jolla\, CA
END:VEVENT
BEGIN:VEVENT
DTSTART;TZID=UTC:20190512T183000
DTEND;TZID=UTC:20190512T200000
DTSTAMP:20260424T231606
CREATED:20190302T004944Z
LAST-MODIFIED:20190302T004944Z
UID:2830-1557685800-1557691200@donatellamoltisanti.com
SUMMARY:The Medicine of Music
DESCRIPTION:
URL:https://donatellamoltisanti.com/event/the-medicine-of-music-4/
LOCATION:Riffs Yoga Studios\, 5510 La Jolla Blvd\, La Jolla\, CA\, 92037
END:VEVENT
BEGIN:VEVENT
DTSTART;TZID=UTC:20190510T190000
DTEND;TZID=UTC:20190510T203000
DTSTAMP:20260424T231606
CREATED:20190302T004832Z
LAST-MODIFIED:20190302T004832Z
UID:2827-1557514800-1557520200@donatellamoltisanti.com
SUMMARY:The Medicine of Music
DESCRIPTION:
URL:https://donatellamoltisanti.com/event/the-medicine-of-music-3/
LOCATION:Yoga Shala\, 3808 N Williams Ave Suite B\, Portland\, OR\, 97227
END:VEVENT
BEGIN:VEVENT
DTSTART;TZID=UTC:20190509T180000
DTEND;TZID=UTC:20190509T193000
DTSTAMP:20260424T231606
CREATED:20190401T171242Z
LAST-MODIFIED:20190401T171242Z
UID:2945-1557424800-1557430200@donatellamoltisanti.com
SUMMARY:The Medicine of Music
DESCRIPTION:Join Donatella for her “Medicine of Music” Sound Healing Event. Donatella will discuss the science of how music heals the body\, then guide participants through an hour-long sound healing journey – combining operatic vocalization\, crystal singing bowls\, and guided meditation\, followed by a Q&A and CD-signing.
URL:https://donatellamoltisanti.com/event/the-medicine-of-music-7/
LOCATION:Eugene Yoga\, Eugene\, OR
END:VEVENT
BEGIN:VEVENT
DTSTART;TZID=UTC:20190508T200000
DTEND;TZID=UTC:20190508T213000
DTSTAMP:20260424T231606
CREATED:20190401T171111Z
LAST-MODIFIED:20190401T171111Z
UID:2942-1557345600-1557351000@donatellamoltisanti.com
SUMMARY:The Medicine of Music
DESCRIPTION:Join Donatella for her “Medicine of Music” Sound Healing Event. Donatella will discuss the science of how music heals the body\, then guide participants through an hour-long sound healing journey – combining operatic vocalization\, crystal singing bowls\, and guided meditation\, followed by a Q&A and CD-signing.
URL:https://donatellamoltisanti.com/event/the-medicine-of-music-6/
LOCATION:Hot Yoga Olympia\, Olympia\, WA
END:VEVENT
BEGIN:VEVENT
DTSTART;TZID=America/New_York:20190506T180000
DTEND;TZID=America/New_York:20190506T200000
DTSTAMP:20260424T231606
CREATED:20190410T172436Z
LAST-MODIFIED:20190410T172436Z
UID:2968-1557165600-1557172800@donatellamoltisanti.com
SUMMARY:The Medicine of Music
DESCRIPTION:Join Donatella for her “Medicine of Music” Sound Healing Event. Donatella will discuss the science of how music heals the body\, then she will guide participants through an hour-long sound healing journey – combining operatic vocalization\, crystal singing bowls\, and guided meditation\, followed by a Q&A and CD-signing.
URL:https://donatellamoltisanti.com/event/the-medicine-of-music-9/
LOCATION:Cilly Fitness
END:VEVENT
BEGIN:VEVENT
DTSTART;TZID=UTC:20190505T133000
DTEND;TZID=UTC:20190505T150000
DTSTAMP:20260424T231606
CREATED:20190305T024725Z
LAST-MODIFIED:20190305T024725Z
UID:2835-1557063000-1557068400@donatellamoltisanti.com
SUMMARY:The Medicine of Music
DESCRIPTION:
URL:https://donatellamoltisanti.com/event/the-medicine-of-music-5/
LOCATION:Wild Light Yoga\, 820 Charnelton St\, Eugene\, Oregon
END:VEVENT
BEGIN:VEVENT
DTSTART;TZID=UTC:20190504T190000
DTEND;TZID=UTC:20190504T201500
DTSTAMP:20260424T231606
CREATED:20190111T201945Z
LAST-MODIFIED:20190111T201945Z
UID:2693-1556996400-1557000900@donatellamoltisanti.com
SUMMARY:New Moon in Taurus Meditation
DESCRIPTION:
URL:https://donatellamoltisanti.com/event/new-moon-in-taurus-meditation/
ATTACH;FMTTYPE=image/jpeg:https://donatellamoltisanti.com/wp-content/uploads/2017/12/1-1920.jpg
END:VEVENT
BEGIN:VEVENT
DTSTART;TZID=UTC:20190504T120000
DTEND;TZID=UTC:20190504T140000
DTSTAMP:20260424T231606
CREATED:20190111T202250Z
LAST-MODIFIED:20190111T202250Z
UID:2699-1556971200-1556978400@donatellamoltisanti.com
SUMMARY:Mamas Forum Practicum
DESCRIPTION:
URL:https://donatellamoltisanti.com/event/mamas-forum-practicum-5/
ATTACH;FMTTYPE=image/jpeg:https://donatellamoltisanti.com/wp-content/uploads/2017/10/Client_5-1920.jpg
END:VEVENT
BEGIN:VEVENT
DTSTART;TZID=UTC:20190503T180000
DTEND;TZID=UTC:20190503T193000
DTSTAMP:20260424T231606
CREATED:20190302T004701Z
LAST-MODIFIED:20190302T004726Z
UID:2824-1556906400-1556911800@donatellamoltisanti.com
SUMMARY:The Medicine of Music
DESCRIPTION:
URL:https://donatellamoltisanti.com/event/the-medicine-of-music-2/
LOCATION:Om Sweat Om\, 516 5th St\, Eureka\, CA\, 95501
END:VEVENT
BEGIN:VEVENT
DTSTART;TZID=UTC:20190501T190000
DTEND;TZID=UTC:20190501T203000
DTSTAMP:20260424T231606
CREATED:20190302T004532Z
LAST-MODIFIED:20190302T004532Z
UID:2821-1556737200-1556742600@donatellamoltisanti.com
SUMMARY:The Medicine of Music
DESCRIPTION:
URL:https://donatellamoltisanti.com/event/the-medicine-of-music/
LOCATION:Vibes Yoga
END:VEVENT
BEGIN:VEVENT
DTSTART;TZID=UTC:20190501T090000
DTEND;TZID=UTC:20190501T103000
DTSTAMP:20260424T231606
CREATED:20190111T201857Z
LAST-MODIFIED:20190111T201857Z
UID:2691-1556701200-1556706600@donatellamoltisanti.com
SUMMARY:Transformational Parenting
DESCRIPTION:
URL:https://donatellamoltisanti.com/event/transformational-parenting-8/
ATTACH;FMTTYPE=image/jpeg:https://donatellamoltisanti.com/wp-content/uploads/2017/07/Donatella_1-1920.jpg
END:VEVENT
END:VCALENDAR