BEGIN:VCALENDAR
VERSION:2.0
PRODID:-//Donatella Moltisanti - ECPv6.15.20//NONSGML v1.0//EN
CALSCALE:GREGORIAN
METHOD:PUBLISH
X-ORIGINAL-URL:https://donatellamoltisanti.com
X-WR-CALDESC:Events for Donatella Moltisanti
REFRESH-INTERVAL;VALUE=DURATION:PT1H
X-Robots-Tag:noindex
X-PUBLISHED-TTL:PT1H
BEGIN:VTIMEZONE
TZID:UTC
BEGIN:STANDARD
TZOFFSETFROM:+0000
TZOFFSETTO:+0000
TZNAME:UTC
DTSTART:20180101T000000
END:STANDARD
END:VTIMEZONE
BEGIN:VEVENT
DTSTART;TZID=UTC:20190204T190000
DTEND;TZID=UTC:20190204T201500
DTSTAMP:20260425T095724
CREATED:20190111T023737Z
LAST-MODIFIED:20190125T231243Z
UID:2645-1549306800-1549311300@donatellamoltisanti.com
SUMMARY:New Moon in Aquarius Meditation
DESCRIPTION:
URL:https://donatellamoltisanti.com/event/new-moon-in-aquarius-meditation/
ATTACH;FMTTYPE=image/jpeg:https://donatellamoltisanti.com/wp-content/uploads/2017/12/1-1920.jpg
END:VEVENT
BEGIN:VEVENT
DTSTART;TZID=UTC:20190202T120000
DTEND;TZID=UTC:20190202T140000
DTSTAMP:20260425T095724
CREATED:20190111T005418Z
LAST-MODIFIED:20190111T005418Z
UID:2614-1549108800-1549116000@donatellamoltisanti.com
SUMMARY:Mamas Forum Practicum
DESCRIPTION:
URL:https://donatellamoltisanti.com/event/mamas-forum-practicum-2/
ATTACH;FMTTYPE=image/jpeg:https://donatellamoltisanti.com/wp-content/uploads/2017/10/Client_5-1920.jpg
END:VEVENT
BEGIN:VEVENT
DTSTART;TZID=UTC:20190129T163000
DTEND;TZID=UTC:20190129T183000
DTSTAMP:20260425T095724
CREATED:20190111T005145Z
LAST-MODIFIED:20190111T005145Z
UID:2612-1548779400-1548786600@donatellamoltisanti.com
SUMMARY:Study Group “The Goddess Path”
DESCRIPTION:
URL:https://donatellamoltisanti.com/event/study-group-the-goddess-path/
ATTACH;FMTTYPE=image/jpeg:https://donatellamoltisanti.com/wp-content/uploads/2017/10/16-1920.jpg
END:VEVENT
BEGIN:VEVENT
DTSTART;TZID=UTC:20190123T090000
DTEND;TZID=UTC:20190123T103000
DTSTAMP:20260425T095724
CREATED:20190109T222339Z
LAST-MODIFIED:20190109T222418Z
UID:2599-1548234000-1548239400@donatellamoltisanti.com
SUMMARY:Transformational Parenting
DESCRIPTION:
URL:https://donatellamoltisanti.com/event/transformational-parenting-2/
ATTACH;FMTTYPE=image/jpeg:https://donatellamoltisanti.com/wp-content/uploads/2017/07/Donatella_1-1920.jpg
END:VEVENT
BEGIN:VEVENT
DTSTART;TZID=UTC:20190115T163000
DTEND;TZID=UTC:20190115T183000
DTSTAMP:20260425T095724
CREATED:20190109T222225Z
LAST-MODIFIED:20190111T004957Z
UID:2597-1547569800-1547577000@donatellamoltisanti.com
SUMMARY:Study Group “Inner Bridges”
DESCRIPTION:
URL:https://donatellamoltisanti.com/event/study-group-inner-bridges/
ATTACH;FMTTYPE=image/jpeg:https://donatellamoltisanti.com/wp-content/uploads/2017/11/Community_17-1920.jpg
END:VEVENT
BEGIN:VEVENT
DTSTART;TZID=UTC:20190109T090000
DTEND;TZID=UTC:20190109T103000
DTSTAMP:20260425T095724
CREATED:20190109T221715Z
LAST-MODIFIED:20190109T222743Z
UID:2593-1547024400-1547029800@donatellamoltisanti.com
SUMMARY:Transformational Parenting
DESCRIPTION:
URL:https://donatellamoltisanti.com/event/transformational-parenting/
ATTACH;FMTTYPE=image/jpeg:https://donatellamoltisanti.com/wp-content/uploads/2017/07/Donatella_1-1920.jpg
END:VEVENT
BEGIN:VEVENT
DTSTART;TZID=UTC:20190106T190000
DTEND;TZID=UTC:20190106T201500
DTSTAMP:20260425T095724
CREATED:20190111T005054Z
LAST-MODIFIED:20190111T005054Z
UID:2610-1546801200-1546805700@donatellamoltisanti.com
SUMMARY:New Moon in Capricorn Meditation
DESCRIPTION:
URL:https://donatellamoltisanti.com/event/new-moon-in-capricorn-meditation/
ATTACH;FMTTYPE=image/jpeg:https://donatellamoltisanti.com/wp-content/uploads/2017/12/1-1920.jpg
END:VEVENT
BEGIN:VEVENT
DTSTART;TZID=UTC:20190105T120000
DTEND;TZID=UTC:20190105T140000
DTSTAMP:20260425T095724
CREATED:20190111T004835Z
LAST-MODIFIED:20190111T004930Z
UID:2607-1546689600-1546696800@donatellamoltisanti.com
SUMMARY:Mamas Forum Practicum
DESCRIPTION:
URL:https://donatellamoltisanti.com/event/mamas-forum-practicum/
ATTACH;FMTTYPE=image/jpeg:https://donatellamoltisanti.com/wp-content/uploads/2017/10/Client_5-1920.jpg
END:VEVENT
END:VCALENDAR